BEGIN:VCALENDAR
VERSION:2.0
PRODID:-//www.douglascountycasa.org//NONSGML kigkonsult.se iCalcreator 2.30
 .10//
CALSCALE:GREGORIAN
METHOD:PUBLISH
UID:ab36076e-4756-40f5-9d0a-d70fb9ed901b
X-WR-CALDESC:
X-WR-RELCALID:04bdc800d67fcb7e0a904e28e1343619
X-WR-TIMEZONE:America/New_York
BEGIN:VTIMEZONE
TZID:America/New_York
BEGIN:STANDARD
TZNAME:EST
DTSTART:20171105T020000
TZOFFSETFROM:-0400
TZOFFSETTO:-0500
RDATE:20181104T020000
RDATE:20191103T020000
END:STANDARD
BEGIN:DAYLIGHT
TZNAME:EDT
DTSTART:20180311T020000
TZOFFSETFROM:-0500
TZOFFSETTO:-0400
RDATE:20190310T020000
END:DAYLIGHT
END:VTIMEZONE
BEGIN:VEVENT
UID:9df44f94-a49b-4756-8e54-88148c50e1fa
DTSTAMP:20260424T104724Z
DESCRIPTION:
DTSTART;TZID=America/New_York:20180903T000000
DTEND;TZID=America/New_York:20180903T235900
LOCATION:
SUMMARY:Labor Day - Office Closed
END:VEVENT
END:VCALENDAR
