BEGIN:VCALENDAR
VERSION:2.0
PRODID:-//www.douglascountycasa.org//NONSGML kigkonsult.se iCalcreator 2.30
 .10//
CALSCALE:GREGORIAN
METHOD:PUBLISH
UID:564a5077-f745-4029-b484-4a3768ac6dd5
X-WR-CALDESC:
X-WR-RELCALID:d7687d43c5891aba3d0a339bc349af6e
X-WR-TIMEZONE:America/New_York
BEGIN:VTIMEZONE
TZID:America/New_York
BEGIN:STANDARD
TZNAME:EST
DTSTART:20171105T020000
TZOFFSETFROM:-0400
TZOFFSETTO:-0500
RDATE:20181104T020000
RDATE:20191103T020000
END:STANDARD
BEGIN:DAYLIGHT
TZNAME:EDT
DTSTART:20180311T020000
TZOFFSETFROM:-0500
TZOFFSETTO:-0400
RDATE:20190310T020000
END:DAYLIGHT
END:VTIMEZONE
BEGIN:VEVENT
UID:69557405-ae05-47e8-9346-67ac54cf7117
DTSTAMP:20260424T104714Z
DESCRIPTION:
DTSTART;TZID=America/New_York:20180905T000000
DTEND;TZID=America/New_York:20180905T235900
LOCATION:
SUMMARY:National Day of Charity
END:VEVENT
END:VCALENDAR
