BEGIN:VCALENDAR
VERSION:2.0
PRODID:-//www.douglascountycasa.org//NONSGML kigkonsult.se iCalcreator 2.30
 .10//
CALSCALE:GREGORIAN
METHOD:PUBLISH
UID:d064171e-5ddf-4e0c-a578-552cd27595c9
X-WR-CALDESC:
X-WR-RELCALID:fd0d704b90d3aa0832b563f6f3f30f33
X-WR-TIMEZONE:America/New_York
BEGIN:VTIMEZONE
TZID:America/New_York
BEGIN:STANDARD
TZNAME:EST
DTSTART:20171105T020000
TZOFFSETFROM:-0400
TZOFFSETTO:-0500
RDATE:20181104T020000
RDATE:20191103T020000
END:STANDARD
BEGIN:DAYLIGHT
TZNAME:EDT
DTSTART:20180311T020000
TZOFFSETFROM:-0500
TZOFFSETTO:-0400
RDATE:20190310T020000
RDATE:20200308T020000
END:DAYLIGHT
END:VTIMEZONE
BEGIN:VEVENT
UID:0f7c22ef-78f0-429c-b544-9061b57673ce
DTSTAMP:20260424T104724Z
DESCRIPTION:
DTSTART;TZID=America/New_York:20180922T000000
DTEND;TZID=America/New_York:20180922T235900
LOCATION:DC Courthouse
SUMMARY:September Saturdays - CASA Booth
END:VEVENT
END:VCALENDAR
