BEGIN:VCALENDAR
VERSION:2.0
PRODID:-//www.douglascountycasa.org//NONSGML kigkonsult.se iCalcreator 2.30
 .10//
CALSCALE:GREGORIAN
METHOD:PUBLISH
UID:ef551afa-f020-4aed-8ff2-5031b4aef861
X-WR-CALDESC:
X-WR-RELCALID:e703d4d84bcf589182905bd00f556ec9
X-WR-TIMEZONE:America/New_York
BEGIN:VTIMEZONE
TZID:America/New_York
BEGIN:STANDARD
TZNAME:EST
DTSTART:20171105T020000
TZOFFSETFROM:-0400
TZOFFSETTO:-0500
RDATE:20181104T020000
RDATE:20191103T020000
END:STANDARD
BEGIN:DAYLIGHT
TZNAME:EDT
DTSTART:20180311T020000
TZOFFSETFROM:-0500
TZOFFSETTO:-0400
RDATE:20190310T020000
RDATE:20200308T020000
END:DAYLIGHT
END:VTIMEZONE
BEGIN:VEVENT
UID:721310b5-8547-4f67-ac45-12a6b3daa8cf
DTSTAMP:20260421T004835Z
DESCRIPTION:
DTSTART;TZID=America/New_York:20181031T000000
DTEND;TZID=America/New_York:20181031T235900
LOCATION:
SUMMARY:Halloween
END:VEVENT
END:VCALENDAR
