BEGIN:VCALENDAR
VERSION:2.0
PRODID:-//www.douglascountycasa.org//NONSGML kigkonsult.se iCalcreator 2.30
 .10//
CALSCALE:GREGORIAN
METHOD:PUBLISH
UID:27e502a7-625d-4590-9084-e9695cd9fc6b
X-WR-CALDESC:
X-WR-RELCALID:9378dd32960e8263b1a84125e148454d
X-WR-TIMEZONE:America/New_York
BEGIN:VTIMEZONE
TZID:America/New_York
BEGIN:STANDARD
TZNAME:EST
DTSTART:20181104T020000
TZOFFSETFROM:-0400
TZOFFSETTO:-0500
RDATE:20191103T020000
END:STANDARD
BEGIN:DAYLIGHT
TZNAME:EDT
DTSTART:20180311T020000
TZOFFSETFROM:-0500
TZOFFSETTO:-0400
RDATE:20190310T020000
RDATE:20200308T020000
END:DAYLIGHT
END:VTIMEZONE
BEGIN:VEVENT
UID:110b0528-b7d5-44b2-a983-ce8a39242219
DTSTAMP:20260420T232236Z
DESCRIPTION:
DTSTART;TZID=America/New_York:20181112T000000
DTEND;TZID=America/New_York:20181112T235900
LOCATION:
SUMMARY:Veteran's Day Observance
END:VEVENT
END:VCALENDAR
