BEGIN:VCALENDAR
VERSION:2.0
PRODID:-//www.douglascountycasa.org//NONSGML kigkonsult.se iCalcreator 2.30
 .10//
CALSCALE:GREGORIAN
METHOD:PUBLISH
UID:52aaea51-e4db-402c-84c7-230902b9dc6f
X-WR-CALDESC:
X-WR-RELCALID:caa68e34886982be987f0c7ead08a48d
X-WR-TIMEZONE:America/New_York
BEGIN:VTIMEZONE
TZID:America/New_York
BEGIN:STANDARD
TZNAME:EST
DTSTART:20181104T020000
TZOFFSETFROM:-0400
TZOFFSETTO:-0500
RDATE:20191103T020000
END:STANDARD
BEGIN:DAYLIGHT
TZNAME:EDT
DTSTART:20180311T020000
TZOFFSETFROM:-0500
TZOFFSETTO:-0400
RDATE:20190310T020000
RDATE:20200308T020000
END:DAYLIGHT
END:VTIMEZONE
BEGIN:VEVENT
UID:5241dc42-ce43-4ab3-8a2b-07df2a920ac4
DTSTAMP:20260420T231631Z
DESCRIPTION:
DTSTART;TZID=America/New_York:20181113T000000
DTEND;TZID=America/New_York:20181113T235900
LOCATION:
SUMMARY:World Kindness Day
END:VEVENT
END:VCALENDAR
