BEGIN:VCALENDAR
VERSION:2.0
PRODID:-//www.douglascountycasa.org//NONSGML kigkonsult.se iCalcreator 2.30
 .10//
CALSCALE:GREGORIAN
METHOD:PUBLISH
UID:8432478c-4d23-482d-9b8e-b19fa9c3e1cf
X-WR-CALDESC:Giving Tuesday is movement to create an international day of g
 iving at the beginning of the Christmas and holiday season.
X-WR-RELCALID:42c5a055433aae7c1a3a83faefec578d
X-WR-TIMEZONE:America/New_York
BEGIN:VTIMEZONE
TZID:America/New_York
BEGIN:STANDARD
TZNAME:EST
DTSTART:20181104T020000
TZOFFSETFROM:-0400
TZOFFSETTO:-0500
RDATE:20191103T020000
END:STANDARD
BEGIN:DAYLIGHT
TZNAME:EDT
DTSTART:20180311T020000
TZOFFSETFROM:-0500
TZOFFSETTO:-0400
RDATE:20190310T020000
RDATE:20200308T020000
END:DAYLIGHT
END:VTIMEZONE
BEGIN:VEVENT
UID:2b3edea3-a30f-4caf-8f4c-4bd0087cbc93
DTSTAMP:20260424T081622Z
DESCRIPTION:Giving Tuesday is movement to create an international day of gi
 ving at the beginning of the Christmas and holiday season.
DTSTART;TZID=America/New_York:20181127T000000
DTEND;TZID=America/New_York:20181127T235900
LOCATION:
SUMMARY:Giving Tuesday
END:VEVENT
END:VCALENDAR
