BEGIN:VCALENDAR
VERSION:2.0
PRODID:-//www.douglascountycasa.org//NONSGML kigkonsult.se iCalcreator 2.30
 .10//
CALSCALE:GREGORIAN
METHOD:PUBLISH
UID:896c6557-c039-45b5-801b-cd06111ca506
X-WR-CALDESC:This luncheon is only open to CVCI Board Members\, Staff and i
 nvited guests.
X-WR-RELCALID:7ee09d13766f16d5c1416f9fadebbcbf
X-WR-TIMEZONE:America/New_York
BEGIN:VTIMEZONE
TZID:America/New_York
BEGIN:STANDARD
TZNAME:EST
DTSTART:20181104T020000
TZOFFSETFROM:-0400
TZOFFSETTO:-0500
RDATE:20191103T020000
END:STANDARD
BEGIN:DAYLIGHT
TZNAME:EDT
DTSTART:20180311T020000
TZOFFSETFROM:-0500
TZOFFSETTO:-0400
RDATE:20190310T020000
RDATE:20200308T020000
END:DAYLIGHT
END:VTIMEZONE
BEGIN:VEVENT
UID:0b09a9d1-591f-48fc-8bed-747dfe5d0f1e
DTSTAMP:20260420T173451Z
DESCRIPTION:This luncheon is only open to CVCI Board Members\, Staff and in
 vited guests.
DTSTART;TZID=America/New_York:20181218T111500
DTEND;TZID=America/New_York:20181218T124500
LOCATION:Gabe's Downtown
SUMMARY:CVCI Staff & Board Holiday Luncheon
END:VEVENT
END:VCALENDAR
