BEGIN:VCALENDAR
VERSION:2.0
PRODID:-//www.douglascountycasa.org//NONSGML kigkonsult.se iCalcreator 2.30
 .10//
CALSCALE:GREGORIAN
METHOD:PUBLISH
UID:8e2dba18-1bde-4432-8efa-1d6f2e4874cc
X-WR-CALDESC:
X-WR-RELCALID:e9aa8309d358a48029d064fcfc04d525
X-WR-TIMEZONE:America/New_York
BEGIN:VTIMEZONE
TZID:America/New_York
BEGIN:STANDARD
TZNAME:EST
DTSTART:20181104T020000
TZOFFSETFROM:-0400
TZOFFSETTO:-0500
RDATE:20191103T020000
END:STANDARD
BEGIN:DAYLIGHT
TZNAME:EDT
DTSTART:20180311T020000
TZOFFSETFROM:-0500
TZOFFSETTO:-0400
RDATE:20190310T020000
RDATE:20200308T020000
END:DAYLIGHT
END:VTIMEZONE
BEGIN:VEVENT
UID:b154cdb4-ed1a-4bc5-abff-1a6393c688a3
DTSTAMP:20260420T173130Z
DESCRIPTION:
DTSTART;TZID=America/New_York:20181224T000000
DTEND;TZID=America/New_York:20181224T235900
LOCATION:
SUMMARY:Christmas Eve Observance - Office Closed
END:VEVENT
END:VCALENDAR
