BEGIN:VCALENDAR
VERSION:2.0
PRODID:-//www.douglascountycasa.org//NONSGML kigkonsult.se iCalcreator 2.30
 .10//
CALSCALE:GREGORIAN
METHOD:PUBLISH
UID:9ac7b3d4-4ec8-4c99-b842-216f33496718
X-WR-CALDESC:
X-WR-RELCALID:fc7abc5f0a52358399c9b9e3c45de6b3
X-WR-TIMEZONE:America/New_York
BEGIN:VTIMEZONE
TZID:America/New_York
BEGIN:STANDARD
TZNAME:EST
DTSTART:20181104T020000
TZOFFSETFROM:-0400
TZOFFSETTO:-0500
RDATE:20191103T020000
END:STANDARD
BEGIN:DAYLIGHT
TZNAME:EDT
DTSTART:20180311T020000
TZOFFSETFROM:-0500
TZOFFSETTO:-0400
RDATE:20190310T020000
RDATE:20200308T020000
END:DAYLIGHT
END:VTIMEZONE
BEGIN:VEVENT
UID:41b6f9c3-4db3-40f4-960e-3b98b8957a21
DTSTAMP:20260420T220924Z
DESCRIPTION:
DTSTART;TZID=America/New_York:20181225T000000
DTEND;TZID=America/New_York:20181225T235900
LOCATION:
SUMMARY:Christmas Day Observance - Office Closed
END:VEVENT
END:VCALENDAR
