BEGIN:VCALENDAR
VERSION:2.0
PRODID:-//www.douglascountycasa.org//NONSGML kigkonsult.se iCalcreator 2.30
 .10//
CALSCALE:GREGORIAN
METHOD:PUBLISH
UID:a6c39261-303f-4da3-8ec0-c93bab386168
X-WR-CALDESC:
X-WR-RELCALID:a33d3330d058abe7ec3e550d84f08374
X-WR-TIMEZONE:America/New_York
BEGIN:VTIMEZONE
TZID:America/New_York
BEGIN:STANDARD
TZNAME:EST
DTSTART:20181104T020000
TZOFFSETFROM:-0400
TZOFFSETTO:-0500
RDATE:20191103T020000
END:STANDARD
BEGIN:DAYLIGHT
TZNAME:EDT
DTSTART:20180311T020000
TZOFFSETFROM:-0500
TZOFFSETTO:-0400
RDATE:20190310T020000
RDATE:20200308T020000
END:DAYLIGHT
END:VTIMEZONE
BEGIN:VEVENT
UID:b34a6b4a-59a7-4c29-b78b-59d3effd4066
DTSTAMP:20260420T160338Z
DESCRIPTION:
DTSTART;TZID=America/New_York:20190121T000000
DTEND;TZID=America/New_York:20190121T235900
LOCATION:
SUMMARY:Dr. Martin Luther King Jr. Day of Service
END:VEVENT
END:VCALENDAR
