BEGIN:VCALENDAR
VERSION:2.0
PRODID:-//www.douglascountycasa.org//NONSGML kigkonsult.se iCalcreator 2.30
 .10//
CALSCALE:GREGORIAN
METHOD:PUBLISH
UID:b5630e8b-8c37-4a03-ac79-409e293b7caf
X-WR-CALDESC:
X-WR-RELCALID:5aa7b9993627115dc33bddfc6982480c
X-WR-TIMEZONE:America/New_York
BEGIN:VTIMEZONE
TZID:America/New_York
BEGIN:STANDARD
TZNAME:EST
DTSTART:20181104T020000
TZOFFSETFROM:-0400
TZOFFSETTO:-0500
RDATE:20191103T020000
END:STANDARD
BEGIN:DAYLIGHT
TZNAME:EDT
DTSTART:20180311T020000
TZOFFSETFROM:-0500
TZOFFSETTO:-0400
RDATE:20190310T020000
RDATE:20200308T020000
END:DAYLIGHT
END:VTIMEZONE
BEGIN:VEVENT
UID:a884fda7-ad8e-4327-b137-7e990d060835
DTSTAMP:20260420T142122Z
DESCRIPTION:
DTSTART;TZID=America/New_York:20190214T000000
DTEND;TZID=America/New_York:20190214T235900
LOCATION:
SUMMARY:Valentine's Day
END:VEVENT
END:VCALENDAR
