BEGIN:VCALENDAR
VERSION:2.0
PRODID:-//www.douglascountycasa.org//NONSGML kigkonsult.se iCalcreator 2.30
 .10//
CALSCALE:GREGORIAN
METHOD:PUBLISH
UID:1a15fa8d-ec27-4088-be3c-7150a4e12ae3
X-WR-CALDESC:
X-WR-RELCALID:dff40bfc5715c6875580cd41d84bb4ba
X-WR-TIMEZONE:America/New_York
BEGIN:VTIMEZONE
TZID:America/New_York
BEGIN:STANDARD
TZNAME:EST
DTSTART:20181104T020000
TZOFFSETFROM:-0400
TZOFFSETTO:-0500
RDATE:20191103T020000
END:STANDARD
BEGIN:DAYLIGHT
TZNAME:EDT
DTSTART:20180311T020000
TZOFFSETFROM:-0500
TZOFFSETTO:-0400
RDATE:20190310T020000
RDATE:20200308T020000
END:DAYLIGHT
END:VTIMEZONE
BEGIN:VEVENT
UID:4f512d60-eb0f-4895-bf13-8aa34c204fa8
DTSTAMP:20260420T142350Z
DESCRIPTION:
DTSTART;TZID=America/New_York:20190218T000000
DTEND;TZID=America/New_York:20190218T235900
LOCATION:
SUMMARY:President's Day
END:VEVENT
END:VCALENDAR
