BEGIN:VCALENDAR
VERSION:2.0
PRODID:-//www.douglascountycasa.org//NONSGML kigkonsult.se iCalcreator 2.30
 .10//
CALSCALE:GREGORIAN
METHOD:PUBLISH
UID:be833441-7d15-4d4d-928f-220d2e498f48
X-WR-CALDESC:
X-WR-RELCALID:2c4c14c12ab43d7229644e29f837e73d
X-WR-TIMEZONE:America/New_York
BEGIN:VTIMEZONE
TZID:America/New_York
BEGIN:STANDARD
TZNAME:EST
DTSTART:20181104T020000
TZOFFSETFROM:-0400
TZOFFSETTO:-0500
RDATE:20191103T020000
END:STANDARD
BEGIN:DAYLIGHT
TZNAME:EDT
DTSTART:20180311T020000
TZOFFSETFROM:-0500
TZOFFSETTO:-0400
RDATE:20190310T020000
RDATE:20200308T020000
END:DAYLIGHT
END:VTIMEZONE
BEGIN:VEVENT
UID:31f48117-017b-47de-b661-98404d6fbfea
DTSTAMP:20260424T081704Z
DESCRIPTION:
DTSTART;TZID=America/New_York:20190301T000000
DTEND;TZID=America/New_York:20190301T235900
LOCATION:
SUMMARY:Employee Appreciation Day
END:VEVENT
END:VCALENDAR
