BEGIN:VCALENDAR
VERSION:2.0
PRODID:-//www.douglascountycasa.org//NONSGML kigkonsult.se iCalcreator 2.30
 .10//
CALSCALE:GREGORIAN
METHOD:PUBLISH
UID:5e9a7c37-05ea-40e5-ab72-1c3f33da83ee
X-WR-CALDESC:
X-WR-RELCALID:a0b9ac3eeca0aacb084a7fbda27f8193
X-WR-TIMEZONE:America/New_York
BEGIN:VTIMEZONE
TZID:America/New_York
BEGIN:STANDARD
TZNAME:EST
DTSTART:20181104T020000
TZOFFSETFROM:-0400
TZOFFSETTO:-0500
RDATE:20191103T020000
END:STANDARD
BEGIN:DAYLIGHT
TZNAME:EDT
DTSTART:20190310T020000
TZOFFSETFROM:-0500
TZOFFSETTO:-0400
RDATE:20200308T020000
END:DAYLIGHT
END:VTIMEZONE
BEGIN:VEVENT
UID:b5d90a21-eb38-48fb-924b-edd40e3e450d
DTSTAMP:20260424T081726Z
DESCRIPTION:
DTSTART;TZID=America/New_York:20190317T000000
DTEND;TZID=America/New_York:20190317T235900
LOCATION:
SUMMARY:St. Patrick's Day
END:VEVENT
END:VCALENDAR
