BEGIN:VCALENDAR
VERSION:2.0
PRODID:-//www.douglascountycasa.org//NONSGML kigkonsult.se iCalcreator 2.30
 .10//
CALSCALE:GREGORIAN
METHOD:PUBLISH
UID:5e57eb3a-6830-4415-84d7-61fc0b4d54e7
X-WR-CALDESC:
X-WR-RELCALID:be18d3ab658d22c389c7f6b87e3b0efe
X-WR-TIMEZONE:America/New_York
BEGIN:VTIMEZONE
TZID:America/New_York
BEGIN:STANDARD
TZNAME:EST
DTSTART:20181104T020000
TZOFFSETFROM:-0400
TZOFFSETTO:-0500
RDATE:20191103T020000
END:STANDARD
BEGIN:DAYLIGHT
TZNAME:EDT
DTSTART:20190310T020000
TZOFFSETFROM:-0500
TZOFFSETTO:-0400
RDATE:20200308T020000
END:DAYLIGHT
END:VTIMEZONE
BEGIN:VEVENT
UID:7515cdcd-b1e0-4022-ab86-4332de98570a
DTSTAMP:20260420T112543Z
DESCRIPTION:
DTSTART;TZID=America/New_York:20190419T000000
DTEND;TZID=America/New_York:20190419T235900
LOCATION:
SUMMARY:Good Friday - Office Closed
END:VEVENT
END:VCALENDAR
