BEGIN:VCALENDAR
VERSION:2.0
PRODID:-//www.douglascountycasa.org//NONSGML kigkonsult.se iCalcreator 2.30
 .10//
CALSCALE:GREGORIAN
METHOD:PUBLISH
UID:c9ed1b8e-8a02-4be3-95e8-3354c6d3fd39
X-WR-CALDESC:
X-WR-RELCALID:6fbc0d436f9b268192ccbb24402f2828
X-WR-TIMEZONE:America/New_York
BEGIN:VTIMEZONE
TZID:America/New_York
BEGIN:STANDARD
TZNAME:EST
DTSTART:20181104T020000
TZOFFSETFROM:-0400
TZOFFSETTO:-0500
RDATE:20191103T020000
END:STANDARD
BEGIN:DAYLIGHT
TZNAME:EDT
DTSTART:20190310T020000
TZOFFSETFROM:-0500
TZOFFSETTO:-0400
RDATE:20200308T020000
END:DAYLIGHT
END:VTIMEZONE
BEGIN:VEVENT
UID:360d0a34-39f1-4efe-adb5-db90e8c2605a
DTSTAMP:20260420T112641Z
DESCRIPTION:
DTSTART;TZID=America/New_York:20190421T000000
DTEND;TZID=America/New_York:20190421T235900
LOCATION:
SUMMARY:Easter
END:VEVENT
END:VCALENDAR
