BEGIN:VCALENDAR
VERSION:2.0
PRODID:-//www.douglascountycasa.org//NONSGML kigkonsult.se iCalcreator 2.30
 .10//
CALSCALE:GREGORIAN
METHOD:PUBLISH
UID:12abe75f-182d-4232-ac0f-8b444a727775
X-WR-CALDESC:
X-WR-RELCALID:99d57728e5f475b3fc2ecdf87d89aad8
X-WR-TIMEZONE:America/New_York
BEGIN:VTIMEZONE
TZID:America/New_York
BEGIN:STANDARD
TZNAME:EST
DTSTART:20181104T020000
TZOFFSETFROM:-0400
TZOFFSETTO:-0500
RDATE:20191103T020000
END:STANDARD
BEGIN:DAYLIGHT
TZNAME:EDT
DTSTART:20190310T020000
TZOFFSETFROM:-0500
TZOFFSETTO:-0400
RDATE:20200308T020000
END:DAYLIGHT
END:VTIMEZONE
BEGIN:VEVENT
UID:801c3505-8c05-432c-b3d4-ca62308285d3
DTSTAMP:20260420T112604Z
DESCRIPTION:
DTSTART;TZID=America/New_York:20190422T000000
DTEND;TZID=America/New_York:20190422T235900
LOCATION:
SUMMARY:Earth Day
END:VEVENT
END:VCALENDAR
