BEGIN:VCALENDAR
VERSION:2.0
PRODID:-//www.douglascountycasa.org//NONSGML kigkonsult.se iCalcreator 2.30
 .10//
CALSCALE:GREGORIAN
METHOD:PUBLISH
UID:8081d776-1e62-4ac4-8de9-c639a92d5447
X-WR-CALDESC:
X-WR-RELCALID:ad04eaaef6d966e7057057bde0624745
X-WR-TIMEZONE:America/New_York
BEGIN:VTIMEZONE
TZID:America/New_York
BEGIN:STANDARD
TZNAME:EST
DTSTART:20181104T020000
TZOFFSETFROM:-0400
TZOFFSETTO:-0500
RDATE:20191103T020000
RDATE:20201101T020000
END:STANDARD
BEGIN:DAYLIGHT
TZNAME:EDT
DTSTART:20190310T020000
TZOFFSETFROM:-0500
TZOFFSETTO:-0400
RDATE:20200308T020000
END:DAYLIGHT
END:VTIMEZONE
BEGIN:VEVENT
UID:777b6288-28ac-45ac-b862-bcc42c1da06f
DTSTAMP:20260420T095643Z
DESCRIPTION:
DTSTART;TZID=America/New_York:20190512T000000
DTEND;TZID=America/New_York:20190512T235900
LOCATION:
SUMMARY:Mother's Day
END:VEVENT
END:VCALENDAR
