BEGIN:VCALENDAR
VERSION:2.0
PRODID:-//www.douglascountycasa.org//NONSGML kigkonsult.se iCalcreator 2.30
 .10//
CALSCALE:GREGORIAN
METHOD:PUBLISH
UID:9a92e2cf-66b5-4603-9887-792f8e8b1636
X-WR-CALDESC:
X-WR-RELCALID:5bb5c98163e35918191a8adb44a745f3
X-WR-TIMEZONE:America/New_York
BEGIN:VTIMEZONE
TZID:America/New_York
BEGIN:STANDARD
TZNAME:EST
DTSTART:20181104T020000
TZOFFSETFROM:-0400
TZOFFSETTO:-0500
RDATE:20191103T020000
RDATE:20201101T020000
END:STANDARD
BEGIN:DAYLIGHT
TZNAME:EDT
DTSTART:20190310T020000
TZOFFSETFROM:-0500
TZOFFSETTO:-0400
RDATE:20200308T020000
END:DAYLIGHT
END:VTIMEZONE
BEGIN:VEVENT
UID:3a99cb75-0d87-4720-9327-7c0757c98b9b
DTSTAMP:20260420T101333Z
DESCRIPTION:
DTSTART;TZID=America/New_York:20190527T000000
DTEND;TZID=America/New_York:20190527T235900
LOCATION:
SUMMARY:Memorial Day - Office Closed
END:VEVENT
END:VCALENDAR
