BEGIN:VCALENDAR
VERSION:2.0
PRODID:-//www.douglascountycasa.org//NONSGML kigkonsult.se iCalcreator 2.30
 .10//
CALSCALE:GREGORIAN
METHOD:PUBLISH
UID:786445ab-d4f8-442d-b1b3-6aaa8489cee0
X-WR-CALDESC:
X-WR-RELCALID:f25040396d993d1d746e16d72e932161
X-WR-TIMEZONE:America/New_York
BEGIN:VTIMEZONE
TZID:America/New_York
BEGIN:STANDARD
TZNAME:EST
DTSTART:20181104T020000
TZOFFSETFROM:-0400
TZOFFSETTO:-0500
RDATE:20191103T020000
RDATE:20201101T020000
END:STANDARD
BEGIN:DAYLIGHT
TZNAME:EDT
DTSTART:20190310T020000
TZOFFSETFROM:-0500
TZOFFSETTO:-0400
RDATE:20200308T020000
END:DAYLIGHT
END:VTIMEZONE
BEGIN:VEVENT
UID:88deb56c-7263-4fef-961a-adf61e45b317
DTSTAMP:20260420T082313Z
DESCRIPTION:
DTSTART;TZID=America/New_York:20190531T000000
DTEND;TZID=America/New_York:20190604T235900
LOCATION:Hyatt Regency - Atlanta\, GA
SUMMARY:2019 National CASA Conference
END:VEVENT
END:VCALENDAR
