BEGIN:VCALENDAR
VERSION:2.0
PRODID:-//www.douglascountycasa.org//NONSGML kigkonsult.se iCalcreator 2.30
 .10//
CALSCALE:GREGORIAN
METHOD:PUBLISH
UID:2a81cefe-dd05-4ba9-b5e6-fc605e95ac27
X-WR-CALDESC:
X-WR-RELCALID:876b252ea80d4bbe5aacc09816e21ae1
X-WR-TIMEZONE:America/New_York
BEGIN:VTIMEZONE
TZID:America/New_York
BEGIN:STANDARD
TZNAME:EST
DTSTART:20181104T020000
TZOFFSETFROM:-0400
TZOFFSETTO:-0500
RDATE:20191103T020000
RDATE:20201101T020000
END:STANDARD
BEGIN:DAYLIGHT
TZNAME:EDT
DTSTART:20190310T020000
TZOFFSETFROM:-0500
TZOFFSETTO:-0400
RDATE:20200308T020000
END:DAYLIGHT
END:VTIMEZONE
BEGIN:VEVENT
UID:0fafcab8-9d93-464f-99bc-fae875893025
DTSTAMP:20260420T083007Z
DESCRIPTION:
DTSTART;TZID=America/New_York:20190601T000000
DTEND;TZID=America/New_York:20190601T235900
LOCATION:
SUMMARY:National Doughnut Day
END:VEVENT
END:VCALENDAR
