BEGIN:VCALENDAR
VERSION:2.0
PRODID:-//www.douglascountycasa.org//NONSGML kigkonsult.se iCalcreator 2.30
 .10//
CALSCALE:GREGORIAN
METHOD:PUBLISH
UID:a0d976aa-7e17-4447-8aa6-719087b00722
X-WR-CALDESC:The Douglasville Juneteenth Festival is a celebration commemor
 ating the ending of slavery in the US with festivities including face pain
 ting\, storytelling\, book signings\, speakers\, musical performances\, he
 alth screenings\, and more. Open to the public and admission is free.\n\nC
 VCI will have an information booth to recruit CASA volunteers and Board Me
 mbers.
X-WR-RELCALID:521883aaa717620e359ee9bab42dcd0d
X-WR-TIMEZONE:America/New_York
BEGIN:VTIMEZONE
TZID:America/New_York
BEGIN:STANDARD
TZNAME:EST
DTSTART:20181104T020000
TZOFFSETFROM:-0400
TZOFFSETTO:-0500
RDATE:20191103T020000
RDATE:20201101T020000
END:STANDARD
BEGIN:DAYLIGHT
TZNAME:EDT
DTSTART:20190310T020000
TZOFFSETFROM:-0500
TZOFFSETTO:-0400
RDATE:20200308T020000
END:DAYLIGHT
END:VTIMEZONE
BEGIN:VEVENT
UID:f2156fbb-0192-4431-8ec2-f6569f567247
DTSTAMP:20260420T082928Z
DESCRIPTION:The Douglasville Juneteenth Festival is a celebration commemora
 ting the ending of slavery in the US with festivities including face paint
 ing\, storytelling\, book signings\, speakers\, musical performances\, hea
 lth screenings\, and more. Open to the public and admission is free.\n\nCV
 CI will have an information booth to recruit CASA volunteers and Board Mem
 bers.
DTSTART;TZID=America/New_York:20190615T090000
DTEND;TZID=America/New_York:20190615T190000
LOCATION:O'Neal Plaza - Downtown Douglasville
SUMMARY:Juneteenth Celebration CASA Booth
END:VEVENT
END:VCALENDAR
