BEGIN:VCALENDAR
VERSION:2.0
PRODID:-//www.douglascountycasa.org//NONSGML kigkonsult.se iCalcreator 2.30
 .10//
CALSCALE:GREGORIAN
METHOD:PUBLISH
UID:7c58b087-850b-4a51-8695-6d29486e0189
X-WR-CALDESC:
X-WR-RELCALID:4716e579b29f8c477b1691c22b4d237d
X-WR-TIMEZONE:America/New_York
BEGIN:VTIMEZONE
TZID:America/New_York
BEGIN:STANDARD
TZNAME:EST
DTSTART:20181104T020000
TZOFFSETFROM:-0400
TZOFFSETTO:-0500
RDATE:20191103T020000
RDATE:20201101T020000
END:STANDARD
BEGIN:DAYLIGHT
TZNAME:EDT
DTSTART:20190310T020000
TZOFFSETFROM:-0500
TZOFFSETTO:-0400
RDATE:20200308T020000
END:DAYLIGHT
END:VTIMEZONE
BEGIN:VEVENT
UID:3de99d72-c175-491d-b4b6-7dc910337dfb
DTSTAMP:20260420T082929Z
DESCRIPTION:
DTSTART;TZID=America/New_York:20190616T000000
DTEND;TZID=America/New_York:20190616T235900
LOCATION:
SUMMARY:Father's Day
END:VEVENT
END:VCALENDAR
