BEGIN:VCALENDAR
VERSION:2.0
PRODID:-//www.douglascountycasa.org//NONSGML kigkonsult.se iCalcreator 2.30
 .10//
CALSCALE:GREGORIAN
METHOD:PUBLISH
UID:eac96cce-ce78-4411-8ca6-1781fc2b2541
X-WR-CALDESC:
X-WR-RELCALID:cbf5afed1cba2ae3e3bd742c55a1dba3
X-WR-TIMEZONE:America/New_York
BEGIN:VTIMEZONE
TZID:America/New_York
BEGIN:STANDARD
TZNAME:EST
DTSTART:20181104T020000
TZOFFSETFROM:-0400
TZOFFSETTO:-0500
RDATE:20191103T020000
RDATE:20201101T020000
END:STANDARD
BEGIN:DAYLIGHT
TZNAME:EDT
DTSTART:20190310T020000
TZOFFSETFROM:-0500
TZOFFSETTO:-0400
RDATE:20200308T020000
END:DAYLIGHT
END:VTIMEZONE
BEGIN:VEVENT
UID:c70d44ae-addd-4b6d-acbe-9f5b9043f737
DTSTAMP:20260420T082457Z
DESCRIPTION:
DTSTART;TZID=America/New_York:20190621T000000
DTEND;TZID=America/New_York:20190621T235900
LOCATION:
SUMMARY:First Day of Summer
END:VEVENT
END:VCALENDAR
