BEGIN:VCALENDAR
VERSION:2.0
PRODID:-//www.douglascountycasa.org//NONSGML kigkonsult.se iCalcreator 2.30
 .10//
CALSCALE:GREGORIAN
METHOD:PUBLISH
UID:98d4fb28-6c1b-4285-aed8-0bddd880c64f
X-WR-CALDESC:
X-WR-RELCALID:542357cbfc694c66c09b6a5f20c8deec
X-WR-TIMEZONE:America/New_York
BEGIN:VTIMEZONE
TZID:America/New_York
BEGIN:STANDARD
TZNAME:EST
DTSTART:20181104T020000
TZOFFSETFROM:-0400
TZOFFSETTO:-0500
RDATE:20191103T020000
RDATE:20201101T020000
END:STANDARD
BEGIN:DAYLIGHT
TZNAME:EDT
DTSTART:20190310T020000
TZOFFSETFROM:-0500
TZOFFSETTO:-0400
RDATE:20200308T020000
END:DAYLIGHT
END:VTIMEZONE
BEGIN:VEVENT
UID:616d8f9d-b57f-47df-9f7d-bdeae6d5bbce
DTSTAMP:20260420T065223Z
DESCRIPTION:
DTSTART;TZID=America/New_York:20190704T000000
DTEND;TZID=America/New_York:20190704T235900
LOCATION:
SUMMARY:July 4th Observance - Office Closed
END:VEVENT
END:VCALENDAR
