BEGIN:VCALENDAR
VERSION:2.0
PRODID:-//www.douglascountycasa.org//NONSGML kigkonsult.se iCalcreator 2.30
 .10//
CALSCALE:GREGORIAN
METHOD:PUBLISH
UID:db40ee18-2ca4-4130-be47-4761bf45fb96
X-WR-CALDESC:
X-WR-RELCALID:362d50a1fc91beb62990836769158810
X-WR-TIMEZONE:America/New_York
BEGIN:VTIMEZONE
TZID:America/New_York
BEGIN:STANDARD
TZNAME:EST
DTSTART:20181104T020000
TZOFFSETFROM:-0400
TZOFFSETTO:-0500
RDATE:20191103T020000
RDATE:20201101T020000
END:STANDARD
BEGIN:DAYLIGHT
TZNAME:EDT
DTSTART:20190310T020000
TZOFFSETFROM:-0500
TZOFFSETTO:-0400
RDATE:20200308T020000
END:DAYLIGHT
END:VTIMEZONE
BEGIN:VEVENT
UID:b26feaf6-4bec-438a-afd1-4732a5b2d644
DTSTAMP:20260424T093758Z
DESCRIPTION:
DTSTART;TZID=America/New_York:20190805T000000
DTEND;TZID=America/New_York:20190805T235900
LOCATION:
SUMMARY:National Day of Friendship
END:VEVENT
END:VCALENDAR
