BEGIN:VCALENDAR
VERSION:2.0
PRODID:-//www.douglascountycasa.org//NONSGML kigkonsult.se iCalcreator 2.30
 .10//
CALSCALE:GREGORIAN
METHOD:PUBLISH
UID:79f9a728-620c-49db-b116-9fc1f1941fc0
X-WR-CALDESC:
X-WR-RELCALID:7f136f2ccccebdb861ab6f4e162be06c
X-WR-TIMEZONE:America/New_York
BEGIN:VTIMEZONE
TZID:America/New_York
BEGIN:STANDARD
TZNAME:EST
DTSTART:20181104T020000
TZOFFSETFROM:-0400
TZOFFSETTO:-0500
RDATE:20191103T020000
RDATE:20201101T020000
END:STANDARD
BEGIN:DAYLIGHT
TZNAME:EDT
DTSTART:20190310T020000
TZOFFSETFROM:-0500
TZOFFSETTO:-0400
RDATE:20200308T020000
END:DAYLIGHT
END:VTIMEZONE
BEGIN:VEVENT
UID:0c868193-9cd0-4c2e-967e-208e68579f01
DTSTAMP:20260420T053347Z
DESCRIPTION:
DTSTART;TZID=America/New_York:20190826T000000
DTEND;TZID=America/New_York:20190826T235900
LOCATION:
SUMMARY:Women's Equality Day
END:VEVENT
END:VCALENDAR
