BEGIN:VCALENDAR
VERSION:2.0
PRODID:-//www.douglascountycasa.org//NONSGML kigkonsult.se iCalcreator 2.30
 .10//
CALSCALE:GREGORIAN
METHOD:PUBLISH
UID:90cddc1c-3474-4f72-ae08-36a1a0a3f9e8
X-WR-CALDESC:
X-WR-RELCALID:dbfe2247fb7ca598a87ff966cf87c791
X-WR-TIMEZONE:America/New_York
BEGIN:VTIMEZONE
TZID:America/New_York
BEGIN:STANDARD
TZNAME:EST
DTSTART:20181104T020000
TZOFFSETFROM:-0400
TZOFFSETTO:-0500
RDATE:20191103T020000
RDATE:20201101T020000
END:STANDARD
BEGIN:DAYLIGHT
TZNAME:EDT
DTSTART:20190310T020000
TZOFFSETFROM:-0500
TZOFFSETTO:-0400
RDATE:20200308T020000
END:DAYLIGHT
END:VTIMEZONE
BEGIN:VEVENT
UID:2910aa2f-49dd-4b83-8be0-17f2d8ea3f6e
DTSTAMP:20260420T035100Z
DESCRIPTION:
DTSTART;TZID=America/New_York:20190902T000000
DTEND;TZID=America/New_York:20190902T235900
LOCATION:
SUMMARY:Labor Day - Office Closed
END:VEVENT
END:VCALENDAR
