BEGIN:VCALENDAR
VERSION:2.0
PRODID:-//www.douglascountycasa.org//NONSGML kigkonsult.se iCalcreator 2.30
 .10//
CALSCALE:GREGORIAN
METHOD:PUBLISH
UID:a9d96cfd-11ef-431e-9eae-1a99fdb5a530
X-WR-CALDESC:
X-WR-RELCALID:887fd31ec9757a1becd1b3026c4ce6c5
X-WR-TIMEZONE:America/New_York
BEGIN:VTIMEZONE
TZID:America/New_York
BEGIN:STANDARD
TZNAME:EST
DTSTART:20181104T020000
TZOFFSETFROM:-0400
TZOFFSETTO:-0500
RDATE:20191103T020000
RDATE:20201101T020000
END:STANDARD
BEGIN:DAYLIGHT
TZNAME:EDT
DTSTART:20190310T020000
TZOFFSETFROM:-0500
TZOFFSETTO:-0400
RDATE:20200308T020000
END:DAYLIGHT
END:VTIMEZONE
BEGIN:VEVENT
UID:3b0a2685-2aea-4c4f-b73d-75368d49f612
DTSTAMP:20260420T040018Z
DESCRIPTION:
DTSTART;TZID=America/New_York:20190905T000000
DTEND;TZID=America/New_York:20190905T235900
LOCATION:
SUMMARY:National Day of Charity
END:VEVENT
END:VCALENDAR
