BEGIN:VCALENDAR
VERSION:2.0
PRODID:-//www.douglascountycasa.org//NONSGML kigkonsult.se iCalcreator 2.30
 .10//
CALSCALE:GREGORIAN
METHOD:PUBLISH
UID:a701cf9b-8bdd-4e1d-9d6b-f12a38e63b80
X-WR-CALDESC:
X-WR-RELCALID:ca4a435bdc3ca622914aaa5ab7a0a229
X-WR-TIMEZONE:America/New_York
BEGIN:VTIMEZONE
TZID:America/New_York
BEGIN:STANDARD
TZNAME:EST
DTSTART:20191103T020000
TZOFFSETFROM:-0400
TZOFFSETTO:-0500
RDATE:20201101T020000
END:STANDARD
BEGIN:DAYLIGHT
TZNAME:EDT
DTSTART:20190310T020000
TZOFFSETFROM:-0500
TZOFFSETTO:-0400
RDATE:20200308T020000
RDATE:20210314T020000
END:DAYLIGHT
END:VTIMEZONE
BEGIN:VEVENT
UID:ed163126-11cc-429a-a708-5e1ac9ed6462
DTSTAMP:20260420T013233Z
DESCRIPTION:
DTSTART;TZID=America/New_York:20191113T000000
DTEND;TZID=America/New_York:20191113T235900
LOCATION:
SUMMARY:World Kindness Day
END:VEVENT
END:VCALENDAR
