BEGIN:VCALENDAR
VERSION:2.0
PRODID:-//www.douglascountycasa.org//NONSGML kigkonsult.se iCalcreator 2.30
 .10//
CALSCALE:GREGORIAN
METHOD:PUBLISH
UID:040c3f23-74a7-422d-b8d0-eb1719d760ed
X-WR-CALDESC:
X-WR-RELCALID:36ddfddddceaa0949ca2a95c3c58bd3e
X-WR-TIMEZONE:America/New_York
BEGIN:VTIMEZONE
TZID:America/New_York
BEGIN:STANDARD
TZNAME:EST
DTSTART:20191103T020000
TZOFFSETFROM:-0400
TZOFFSETTO:-0500
RDATE:20201101T020000
END:STANDARD
BEGIN:DAYLIGHT
TZNAME:EDT
DTSTART:20190310T020000
TZOFFSETFROM:-0500
TZOFFSETTO:-0400
RDATE:20200308T020000
RDATE:20210314T020000
END:DAYLIGHT
END:VTIMEZONE
BEGIN:VEVENT
UID:7222b714-432a-4b94-8eba-3e292c1e9241
DTSTAMP:20260420T010126Z
DESCRIPTION:
DTSTART;TZID=America/New_York:20191128T000000
DTEND;TZID=America/New_York:20191129T235900
LOCATION:
SUMMARY:Thanksgiving - Office Closed
END:VEVENT
END:VCALENDAR
