BEGIN:VCALENDAR
VERSION:2.0
PRODID:-//www.douglascountycasa.org//NONSGML kigkonsult.se iCalcreator 2.30
 .10//
CALSCALE:GREGORIAN
METHOD:PUBLISH
UID:672a5ccf-aaf8-41c6-b759-7aa7570a9dd3
X-WR-CALDESC:
X-WR-RELCALID:64cf81f74f21a4a6b2da51caa4ccf9ff
X-WR-TIMEZONE:America/New_York
BEGIN:VTIMEZONE
TZID:America/New_York
BEGIN:STANDARD
TZNAME:EST
DTSTART:20191103T020000
TZOFFSETFROM:-0400
TZOFFSETTO:-0500
RDATE:20201101T020000
END:STANDARD
BEGIN:DAYLIGHT
TZNAME:EDT
DTSTART:20190310T020000
TZOFFSETFROM:-0500
TZOFFSETTO:-0400
RDATE:20200308T020000
RDATE:20210314T020000
END:DAYLIGHT
END:VTIMEZONE
BEGIN:VEVENT
UID:ac5c4428-27eb-4d34-93a2-267d4f423316
DTSTAMP:20260423T095323Z
DESCRIPTION:
DTSTART;TZID=America/New_York:20191222T000000
DTEND;TZID=America/New_York:20191222T235900
LOCATION:
SUMMARY:Hanukkah Begins
END:VEVENT
END:VCALENDAR
