BEGIN:VCALENDAR
VERSION:2.0
PRODID:-//www.douglascountycasa.org//NONSGML kigkonsult.se iCalcreator 2.30
 .10//
CALSCALE:GREGORIAN
METHOD:PUBLISH
UID:10777e89-8790-4d38-b0ee-f31b4ed70250
X-WR-CALDESC:
X-WR-RELCALID:7fb50e88dc596be6f9a7132ea47e38e0
X-WR-TIMEZONE:America/New_York
BEGIN:VTIMEZONE
TZID:America/New_York
BEGIN:STANDARD
TZNAME:EST
DTSTART:20191103T020000
TZOFFSETFROM:-0400
TZOFFSETTO:-0500
RDATE:20201101T020000
END:STANDARD
BEGIN:DAYLIGHT
TZNAME:EDT
DTSTART:20190310T020000
TZOFFSETFROM:-0500
TZOFFSETTO:-0400
RDATE:20200308T020000
RDATE:20210314T020000
END:DAYLIGHT
END:VTIMEZONE
BEGIN:VEVENT
UID:a067332b-4eec-4a29-87c1-539f7243a8cd
DTSTAMP:20260421T100525Z
DESCRIPTION:
DTSTART;TZID=America/New_York:20191225T000000
DTEND;TZID=America/New_York:20191225T235900
LOCATION:
SUMMARY:Christmas Day Observance - Office Closed
END:VEVENT
END:VCALENDAR
