BEGIN:VCALENDAR
VERSION:2.0
PRODID:-//www.douglascountycasa.org//NONSGML kigkonsult.se iCalcreator 2.30
 .10//
CALSCALE:GREGORIAN
METHOD:PUBLISH
UID:847f05ad-fb3b-41ac-a87f-9d24182c283a
X-WR-CALDESC:
X-WR-RELCALID:e0ed6e0ab9f3c7acd55a66e96e133f5f
X-WR-TIMEZONE:America/New_York
BEGIN:VTIMEZONE
TZID:America/New_York
BEGIN:STANDARD
TZNAME:EST
DTSTART:20191103T020000
TZOFFSETFROM:-0400
TZOFFSETTO:-0500
RDATE:20201101T020000
END:STANDARD
BEGIN:DAYLIGHT
TZNAME:EDT
DTSTART:20190310T020000
TZOFFSETFROM:-0500
TZOFFSETTO:-0400
RDATE:20200308T020000
RDATE:20210314T020000
END:DAYLIGHT
END:VTIMEZONE
BEGIN:VEVENT
UID:62f73418-869d-4a63-985a-1e4708ed8f79
DTSTAMP:20260419T235049Z
DESCRIPTION:
DTSTART;TZID=America/New_York:20191230T000000
DTEND;TZID=America/New_York:20191230T235900
LOCATION:
SUMMARY:Hanukkah Ends
END:VEVENT
END:VCALENDAR
