BEGIN:VCALENDAR
VERSION:2.0
PRODID:-//www.douglascountycasa.org//NONSGML kigkonsult.se iCalcreator 2.30
 .10//
CALSCALE:GREGORIAN
METHOD:PUBLISH
UID:3845a497-5c27-408f-97e4-bebeecc76f56
X-WR-CALDESC:
X-WR-RELCALID:59825ad6ba9a8bb539302844ffdcbe98
X-WR-TIMEZONE:America/New_York
BEGIN:VTIMEZONE
TZID:America/New_York
BEGIN:STANDARD
TZNAME:EST
DTSTART:20191103T020000
TZOFFSETFROM:-0400
TZOFFSETTO:-0500
RDATE:20201101T020000
END:STANDARD
BEGIN:DAYLIGHT
TZNAME:EDT
DTSTART:20190310T020000
TZOFFSETFROM:-0500
TZOFFSETTO:-0400
RDATE:20200308T020000
RDATE:20210314T020000
END:DAYLIGHT
END:VTIMEZONE
BEGIN:VEVENT
UID:2098566b-dc01-49f3-b93d-430f75767c4a
DTSTAMP:20260419T222009Z
DESCRIPTION:
DTSTART;TZID=America/New_York:20200120T000000
DTEND;TZID=America/New_York:20200120T235900
LOCATION:
SUMMARY:Dr. Martin Luther King Jr. Day of Service
END:VEVENT
END:VCALENDAR
