BEGIN:VCALENDAR
VERSION:2.0
PRODID:-//www.douglascountycasa.org//NONSGML kigkonsult.se iCalcreator 2.30
 .10//
CALSCALE:GREGORIAN
METHOD:PUBLISH
UID:f80d07ec-a948-433b-a0d2-69cda7e2b9e0
X-WR-CALDESC:
X-WR-RELCALID:39ce187cffd02b81a259084202731324
X-WR-TIMEZONE:America/New_York
BEGIN:VTIMEZONE
TZID:America/New_York
BEGIN:STANDARD
TZNAME:EST
DTSTART:20191103T020000
TZOFFSETFROM:-0400
TZOFFSETTO:-0500
RDATE:20201101T020000
END:STANDARD
BEGIN:DAYLIGHT
TZNAME:EDT
DTSTART:20190310T020000
TZOFFSETFROM:-0500
TZOFFSETTO:-0400
RDATE:20200308T020000
RDATE:20210314T020000
END:DAYLIGHT
END:VTIMEZONE
BEGIN:VEVENT
UID:cc7361ff-5ef1-4730-81bd-f37b19fe1998
DTSTAMP:20260419T204249Z
DESCRIPTION:
DTSTART;TZID=America/New_York:20200217T000000
DTEND;TZID=America/New_York:20200217T235900
LOCATION:
SUMMARY:President's Day - Office Closed
END:VEVENT
END:VCALENDAR
