BEGIN:VCALENDAR
VERSION:2.0
PRODID:-//www.douglascountycasa.org//NONSGML kigkonsult.se iCalcreator 2.30
 .10//
CALSCALE:GREGORIAN
METHOD:PUBLISH
UID:2217048d-d880-4c3b-906e-949a34e6dae8
X-WR-CALDESC:
X-WR-RELCALID:d0fdca1f2577ec45f573adcde090652c
X-WR-TIMEZONE:America/New_York
BEGIN:VTIMEZONE
TZID:America/New_York
BEGIN:STANDARD
TZNAME:EST
DTSTART:20191103T020000
TZOFFSETFROM:-0400
TZOFFSETTO:-0500
RDATE:20201101T020000
END:STANDARD
BEGIN:DAYLIGHT
TZNAME:EDT
DTSTART:20200308T020000
TZOFFSETFROM:-0500
TZOFFSETTO:-0400
RDATE:20210314T020000
END:DAYLIGHT
END:VTIMEZONE
BEGIN:VEVENT
UID:d259ddb7-a85c-4483-96d8-f97bc4d45016
DTSTAMP:20260419T193729Z
DESCRIPTION:
DTSTART;TZID=America/New_York:20200317T000000
DTEND;TZID=America/New_York:20200317T235900
LOCATION:
SUMMARY:St. Patrick's Day
END:VEVENT
END:VCALENDAR
