BEGIN:VCALENDAR
VERSION:2.0
PRODID:-//www.douglascountycasa.org//NONSGML kigkonsult.se iCalcreator 2.30
 .10//
CALSCALE:GREGORIAN
METHOD:PUBLISH
UID:d0952738-409a-4bae-9c83-e0b5b115efa2
X-WR-CALDESC:
X-WR-RELCALID:d9771a63475c1b3eb8641f12ae6f13dc
X-WR-TIMEZONE:America/New_York
BEGIN:VTIMEZONE
TZID:America/New_York
BEGIN:STANDARD
TZNAME:EST
DTSTART:20191103T020000
TZOFFSETFROM:-0400
TZOFFSETTO:-0500
RDATE:20201101T020000
END:STANDARD
BEGIN:DAYLIGHT
TZNAME:EDT
DTSTART:20200308T020000
TZOFFSETFROM:-0500
TZOFFSETTO:-0400
RDATE:20210314T020000
END:DAYLIGHT
END:VTIMEZONE
BEGIN:VEVENT
UID:cc177397-8011-4b5f-9681-4918cb532a2c
DTSTAMP:20260419T181658Z
DESCRIPTION:
DTSTART;TZID=America/New_York:20200410T000000
DTEND;TZID=America/New_York:20200410T235900
LOCATION:
SUMMARY:Good Friday - Office Closed
END:VEVENT
END:VCALENDAR
