BEGIN:VCALENDAR
VERSION:2.0
PRODID:-//www.douglascountycasa.org//NONSGML kigkonsult.se iCalcreator 2.30
 .10//
CALSCALE:GREGORIAN
METHOD:PUBLISH
UID:78188045-9434-4e4d-883f-7fa9719e1842
X-WR-CALDESC:
X-WR-RELCALID:5ef50673cf1f85c7bd321ab7286793d8
X-WR-TIMEZONE:America/New_York
BEGIN:VTIMEZONE
TZID:America/New_York
BEGIN:STANDARD
TZNAME:EST
DTSTART:20191103T020000
TZOFFSETFROM:-0400
TZOFFSETTO:-0500
RDATE:20201101T020000
END:STANDARD
BEGIN:DAYLIGHT
TZNAME:EDT
DTSTART:20200308T020000
TZOFFSETFROM:-0500
TZOFFSETTO:-0400
RDATE:20210314T020000
END:DAYLIGHT
END:VTIMEZONE
BEGIN:VEVENT
UID:0450bbb6-f920-4d73-9b7a-3ef21c63bf5b
DTSTAMP:20260419T174943Z
DESCRIPTION:
DTSTART;TZID=America/New_York:20200412T000000
DTEND;TZID=America/New_York:20200412T235900
LOCATION:
SUMMARY:Easter
END:VEVENT
END:VCALENDAR
