BEGIN:VCALENDAR
VERSION:2.0
PRODID:-//www.douglascountycasa.org//NONSGML kigkonsult.se iCalcreator 2.30
 .10//
CALSCALE:GREGORIAN
METHOD:PUBLISH
UID:0fd984c0-cb79-4cad-b46d-c6289aa6265d
X-WR-CALDESC:
X-WR-RELCALID:2bd9a12c258e689942cde0ca074fac6e
X-WR-TIMEZONE:America/New_York
BEGIN:VTIMEZONE
TZID:America/New_York
BEGIN:STANDARD
TZNAME:EST
DTSTART:20191103T020000
TZOFFSETFROM:-0400
TZOFFSETTO:-0500
RDATE:20201101T020000
END:STANDARD
BEGIN:DAYLIGHT
TZNAME:EDT
DTSTART:20200308T020000
TZOFFSETFROM:-0500
TZOFFSETTO:-0400
RDATE:20210314T020000
END:DAYLIGHT
END:VTIMEZONE
BEGIN:VEVENT
UID:0bc68621-07ec-4707-99be-167d180d4782
DTSTAMP:20260419T180814Z
DESCRIPTION:
DTSTART;TZID=America/New_York:20200422T000000
DTEND;TZID=America/New_York:20200422T235900
LOCATION:
SUMMARY:Earth Day
END:VEVENT
END:VCALENDAR
