BEGIN:VCALENDAR
VERSION:2.0
PRODID:-//www.douglascountycasa.org//NONSGML kigkonsult.se iCalcreator 2.30
 .10//
CALSCALE:GREGORIAN
METHOD:PUBLISH
UID:2779a150-de5e-4a02-b8d4-c4d0e671bec2
X-WR-CALDESC:During this unprecedented time\, advocates are needed more tha
 n ever. While children are sheltering in place\, many of them are at great
 er risk due to the limited interactions and visibility. You can make a dif
 ference!\nThis is your opportunity to learn about becoming a Court Appoint
 ed Special Advocate and the pre-service training process. You can meet the
  staff who will support your advocacy efforts\, ask questions to better un
 derstand the expectations and meet others in the community who care about 
 children and families. We would love for you to join us!
X-WR-RELCALID:c580d5cb556361bf5be42ea2868f3196
X-WR-TIMEZONE:America/New_York
BEGIN:VTIMEZONE
TZID:America/New_York
BEGIN:STANDARD
TZNAME:EST
DTSTART:20191103T020000
TZOFFSETFROM:-0400
TZOFFSETTO:-0500
RDATE:20201101T020000
RDATE:20211107T020000
END:STANDARD
BEGIN:DAYLIGHT
TZNAME:EDT
DTSTART:20200308T020000
TZOFFSETFROM:-0500
TZOFFSETTO:-0400
RDATE:20210314T020000
END:DAYLIGHT
END:VTIMEZONE
BEGIN:VEVENT
UID:19f2b078-3d77-44b9-9fdb-10fef53ffd74
DTSTAMP:20260419T162821Z
DESCRIPTION:During this unprecedented time\, advocates are needed more than
  ever. While children are sheltering in place\, many of them are at greate
 r risk due to the limited interactions and visibility. You can make a diff
 erence!\nThis is your opportunity to learn about becoming a Court Appointe
 d Special Advocate and the pre-service training process. You can meet the 
 staff who will support your advocacy efforts\, ask questions to better und
 erstand the expectations and meet others in the community who care about c
 hildren and families. We would love for you to join us!
DTSTART;TZID=America/New_York:20200518T100000
DTEND;TZID=America/New_York:20200518T110000
LOCATION:Online
SUMMARY:Virtual Morning Orientation Session
END:VEVENT
END:VCALENDAR
