BEGIN:VCALENDAR
VERSION:2.0
PRODID:-//www.douglascountycasa.org//NONSGML kigkonsult.se iCalcreator 2.30
 .10//
CALSCALE:GREGORIAN
METHOD:PUBLISH
UID:5e276d34-dc0c-48c8-b4ca-2d477ff1500c
X-WR-CALDESC:Wondering what it’s like to be a CASA volunteer?  \nPre-servic
 e CASA Volunteer Orientation sessions are an opportunity to learn more abo
 ut what it means to be a CASA volunteer and a time for you to ask any ques
 tions you may have.  This hour long session includes information about the
  application process\, the training\, and the case support provided to eac
 h CASA volunteer.\n***Please click 'Register Now' to get a 'ticket' to att
 end orientation. Once you register\, you will receive an email with the or
 ientation Zoom link.***
X-WR-RELCALID:3323aa1daf4a337a13bad7a0a002dcc2
X-WR-TIMEZONE:America/New_York
BEGIN:VTIMEZONE
TZID:America/New_York
BEGIN:STANDARD
TZNAME:EST
DTSTART:20221106T020000
TZOFFSETFROM:-0400
TZOFFSETTO:-0500
RDATE:20231105T020000
RDATE:20241103T020000
END:STANDARD
BEGIN:DAYLIGHT
TZNAME:EDT
DTSTART:20230312T020000
TZOFFSETFROM:-0500
TZOFFSETTO:-0400
RDATE:20240310T020000
RDATE:20250309T020000
END:DAYLIGHT
END:VTIMEZONE
BEGIN:VEVENT
UID:fed68e1c-d5c4-4b0b-89d6-6624530ae877
DTSTAMP:20260421T041115Z
DESCRIPTION:Wondering what it’s like to be a CASA volunteer?  \nPre-service
  CASA Volunteer Orientation sessions are an opportunity to learn more abou
 t what it means to be a CASA volunteer and a time for you to ask any quest
 ions you may have.  This hour long session includes information about the 
 application process\, the training\, and the case support provided to each
  CASA volunteer.\n***Please click 'Register Now' to get a 'ticket' to atte
 nd orientation. Once you register\, you will receive an email with the ori
 entation Zoom link.***
DTSTART;TZID=America/New_York:20231012T180000
DTEND;TZID=America/New_York:20231012T190000
LOCATION:
SUMMARY:Pre-service CASA Volunteer Orientation
END:VEVENT
END:VCALENDAR
