BEGIN:VCALENDAR
VERSION:2.0
PRODID:-//www.douglascountycasa.org//NONSGML kigkonsult.se iCalcreator 2.30
 .10//
CALSCALE:GREGORIAN
METHOD:PUBLISH
UID:2ae216e6-ea73-4f1b-a21a-d12b628f148b
X-WR-CALDESC:
X-WR-RELCALID:4ce67501b5e6992594bc42220fa9a54b
X-WR-TIMEZONE:America/New_York
BEGIN:VTIMEZONE
TZID:America/New_York
BEGIN:STANDARD
TZNAME:EST
DTSTART:20241103T020000
TZOFFSETFROM:-0400
TZOFFSETTO:-0500
RDATE:20251102T020000
END:STANDARD
BEGIN:DAYLIGHT
TZNAME:EDT
DTSTART:20240310T020000
TZOFFSETFROM:-0500
TZOFFSETTO:-0400
RDATE:20250309T020000
RDATE:20260308T020000
END:DAYLIGHT
END:VTIMEZONE
BEGIN:VEVENT
UID:d0a13916-60b6-411c-a322-b22ae4c58f7d
DTSTAMP:20260424T092952Z
DESCRIPTION:
DTSTART;TZID=America/New_York:20241224T000000
DTEND;TZID=America/New_York:20241224T235900
LOCATION:
SUMMARY:Christmas Eve Observance - Office Closed
END:VEVENT
END:VCALENDAR
